BEGIN:VCALENDAR
VERSION:2.0
CALSCALE:GREGORIAN
METHOD:PUBLISH
PRODID://NEDA//464429
BEGIN:VEVENT
DTSTAMP:20260420T200536
VTIMEZONE:America/New_York
DTSTART:20251219T003000Z
DTEND:20251219T013000Z
UID:464429
SUMMARY:NEDA Year End Awards virtual celebration
LOCATION:
DESCRIPTION:NEDA Year End Awards virtual celebration\n\n12/18/25 07:30 PM EST\n - 12/18/25 08:30 PM EST\Description:\nNEDA celebrates the hard work of its Year End Awards winners!\n\nWinners who opt in will be asked to share a professional and candid photo, along with accompanying story to help us all better celebrate your competitive journey with you.\nRegister to cheer along our colleagues, thank our volunteers, give props to sponsors, and toast to 2025- the connecting Zoom information will be emailed to you.\nWinners, your confirmation email will include a link to provide us with the above information- you have time to think about it! 
X-ALT-DESC;FMTTYPE=text/html:NEDA Year End Awards virtual celebration<br /><br />12/18/25 07:30 PM EST - 12/18/25 08:30 PM EST<br />Description:<br /><span style="font-size:14px">NEDA celebrates the hard work of its Year End Awards winners!<br />
<br />
Winners who opt in will be asked to share a professional and candid photo, along with accompanying story to help us all better celebrate your competitive journey with you.<br />
Register to cheer along our colleagues, thank our volunteers, give props to sponsors, and toast to 2025- the connecting Zoom information will be emailed to you.<br />
Winners, your confirmation email will include a link to provide us with the above information- you have time to think about it!&nbsp;</span>
PRIORITY:3
TRANSP:TRANSPARENT
BEGIN:VALARM
TRIGGER:-PT5M
ACTION:DISPLAY
DESCRIPTION:Reminder
END:VALARM
END:VEVENT
END:VCALENDAR
