BEGIN:VCALENDAR
VERSION:2.0
CALSCALE:GREGORIAN
METHOD:PUBLISH
PRODID://NEDA//451018
BEGIN:VEVENT
DTSTAMP:20260420T230056
VTIMEZONE:America/New_York
DTSTART:20251023T000000Z
DTEND:20251023T010000Z
UID:451018
SUMMARY:USDF Virtual Education Series: Inflammation & Fatigue in Performance Horses
LOCATION:
DESCRIPTION:USDF Virtual Education Series: Inflammation & Fatigue in Performance Horses\n\n10/22/25 08:00 PM EST\n - 10/22/25 09:00 PM EST\Description:\nFree virtual discussion with Dr. Sarah White-Springer as she shares her research findings on how nutrition, exercise, sleep, and light exposure are related to recovery and injury prevention in performance horses.\Details:\nRun through the United States Dressage Federation.
X-ALT-DESC;FMTTYPE=text/html:USDF Virtual Education Series: Inflammation & Fatigue in Performance Horses<br /><br />10/22/25 08:00 PM EST - 10/22/25 09:00 PM EST<br />Description:<br />Free virtual discussion with Dr. Sarah White-Springer as she shares her research findings on how nutrition, exercise, sleep, and light exposure are related to recovery and injury prevention in performance horses.<br />Details:<br />Run through the United States Dressage Federation.
PRIORITY:3
TRANSP:TRANSPARENT
BEGIN:VALARM
TRIGGER:-PT5M
ACTION:DISPLAY
DESCRIPTION:Reminder
END:VALARM
END:VEVENT
END:VCALENDAR
